BEGIN:VCALENDAR
VERSION:2.0
PRODID:-//Colegio Biling&uuml;e Anglo Americano - ECPv6.8.3//NONSGML v1.0//EN
CALSCALE:GREGORIAN
METHOD:PUBLISH
X-WR-CALNAME:Colegio Biling&uuml;e Anglo Americano
X-ORIGINAL-URL:https://colegioangloamericano.edu.co
X-WR-CALDESC:Events for Colegio Biling&uuml;e Anglo Americano
REFRESH-INTERVAL;VALUE=DURATION:PT1H
X-Robots-Tag:noindex
X-PUBLISHED-TTL:PT1H
BEGIN:VTIMEZONE
TZID:America/Bogota
BEGIN:STANDARD
TZOFFSETFROM:-0500
TZOFFSETTO:-0500
TZNAME:-05
DTSTART:20170101T000000
END:STANDARD
TZID:UTC
BEGIN:STANDARD
TZOFFSETFROM:+0000
TZOFFSETTO:+0000
TZNAME:UTC
DTSTART:20160101T000000
END:STANDARD
END:VTIMEZONE
BEGIN:VEVENT
DTSTART;TZID=America/Bogota:20241116T090000
DTEND;TZID=America/Bogota:20241116T120000
DTSTAMP:20260425T091603
CREATED:20241115T212618Z
LAST-MODIFIED:20241115T212618Z
UID:16031-1731747600-1731758400@colegioangloamericano.edu.co
SUMMARY:OPEN HOUSE NOVIEMBRE 2024
DESCRIPTION:
URL:https://colegioangloamericano.edu.co/event/open-house-noviembre-2024/
END:VEVENT
BEGIN:VEVENT
DTSTART;TZID=America/Bogota:20240529T110000
DTEND;TZID=America/Bogota:20240529T110000
DTSTAMP:20260425T091603
CREATED:20240323T162303Z
LAST-MODIFIED:20240323T162303Z
UID:15862-1716980400-1716980400@colegioangloamericano.edu.co
SUMMARY:Musical The Lion Kingdom
DESCRIPTION:Lugar: Teatro Jorge Isaacs \nPreschool to second: 11:00a.m \nThird to Eleventh: 7:00p.m
URL:https://colegioangloamericano.edu.co/event/musical-the-lion-kingdom/
END:VEVENT
BEGIN:VEVENT
DTSTART;TZID=America/Bogota:20231118T090000
DTEND;TZID=America/Bogota:20231118T120000
DTSTAMP:20260425T091603
CREATED:20231018T154412Z
LAST-MODIFIED:20231018T154412Z
UID:15612-1700298000-1700308800@colegioangloamericano.edu.co
SUMMARY:OPEN HOUSE
DESCRIPTION:OPEN HOUSE
URL:https://colegioangloamericano.edu.co/event/open-house/
END:VEVENT
BEGIN:VEVENT
DTSTART;VALUE=DATE:20180701
DTEND;VALUE=DATE:20180801
DTSTAMP:20260425T091603
CREATED:20171006T214918Z
LAST-MODIFIED:20171006T214918Z
UID:14672-1530403200-1533081599@colegioangloamericano.edu.co
SUMMARY:Julio 2018
DESCRIPTION:
URL:https://colegioangloamericano.edu.co/event/julio2018/
END:VEVENT
BEGIN:VEVENT
DTSTART;VALUE=DATE:20180601
DTEND;VALUE=DATE:20180701
DTSTAMP:20260425T091603
CREATED:20171006T214824Z
LAST-MODIFIED:20171006T214830Z
UID:14669-1527811200-1530403199@colegioangloamericano.edu.co
SUMMARY:Junio 2018
DESCRIPTION:
URL:https://colegioangloamericano.edu.co/event/junio2018/
END:VEVENT
BEGIN:VEVENT
DTSTART;VALUE=DATE:20180501
DTEND;VALUE=DATE:20180601
DTSTAMP:20260425T091603
CREATED:20171006T214716Z
LAST-MODIFIED:20171006T214716Z
UID:14666-1525132800-1527811199@colegioangloamericano.edu.co
SUMMARY:Mayo 2018
DESCRIPTION:
URL:https://colegioangloamericano.edu.co/event/mayo2018/
END:VEVENT
BEGIN:VEVENT
DTSTART;VALUE=DATE:20180401
DTEND;VALUE=DATE:20180501
DTSTAMP:20260425T091603
CREATED:20171006T214614Z
LAST-MODIFIED:20171006T214614Z
UID:14663-1522540800-1525132799@colegioangloamericano.edu.co
SUMMARY:Abril 2018
DESCRIPTION:
URL:https://colegioangloamericano.edu.co/event/abril2018/
END:VEVENT
BEGIN:VEVENT
DTSTART;VALUE=DATE:20180301
DTEND;VALUE=DATE:20180401
DTSTAMP:20260425T091603
CREATED:20171006T213841Z
LAST-MODIFIED:20171006T214023Z
UID:14659-1519862400-1522540799@colegioangloamericano.edu.co
SUMMARY:Marzo 2018
DESCRIPTION:
URL:https://colegioangloamericano.edu.co/event/marzo2018/
END:VEVENT
BEGIN:VEVENT
DTSTART;VALUE=DATE:20180201
DTEND;VALUE=DATE:20180301
DTSTAMP:20260425T091603
CREATED:20171006T213744Z
LAST-MODIFIED:20171006T214151Z
UID:14656-1517443200-1519862399@colegioangloamericano.edu.co
SUMMARY:Febrero 2018
DESCRIPTION:
URL:https://colegioangloamericano.edu.co/event/febrero2018/
END:VEVENT
BEGIN:VEVENT
DTSTART;VALUE=DATE:20180101
DTEND;VALUE=DATE:20180201
DTSTAMP:20260425T091603
CREATED:20171006T213703Z
LAST-MODIFIED:20171006T214224Z
UID:14653-1514764800-1517443199@colegioangloamericano.edu.co
SUMMARY:Enero 2018
DESCRIPTION:
URL:https://colegioangloamericano.edu.co/event/enero2018/
END:VEVENT
BEGIN:VEVENT
DTSTART;VALUE=DATE:20171201
DTEND;VALUE=DATE:20180101
DTSTAMP:20260425T091603
CREATED:20171006T213504Z
LAST-MODIFIED:20171006T214250Z
UID:14647-1512086400-1514764799@colegioangloamericano.edu.co
SUMMARY:Diciembre 2017
DESCRIPTION:
URL:https://colegioangloamericano.edu.co/event/december2017/
END:VEVENT
BEGIN:VEVENT
DTSTART;VALUE=DATE:20171101
DTEND;VALUE=DATE:20171201
DTSTAMP:20260425T091603
CREATED:20171005T163512Z
LAST-MODIFIED:20171006T214314Z
UID:14644-1509494400-1512086399@colegioangloamericano.edu.co
SUMMARY:Noviembre 2017
DESCRIPTION:
URL:https://colegioangloamericano.edu.co/event/noviembre-2017/
END:VEVENT
BEGIN:VEVENT
DTSTART;VALUE=DATE:20171001
DTEND;VALUE=DATE:20171101
DTSTAMP:20260425T091603
CREATED:20171005T163429Z
LAST-MODIFIED:20171006T212939Z
UID:14641-1506816000-1509494399@colegioangloamericano.edu.co
SUMMARY:Octubre 2017
DESCRIPTION:
URL:https://colegioangloamericano.edu.co/event/octubre-2017/
END:VEVENT
BEGIN:VEVENT
DTSTART;VALUE=DATE:20170901
DTEND;VALUE=DATE:20171001
DTSTAMP:20260425T091603
CREATED:20171005T163332Z
LAST-MODIFIED:20171006T213002Z
UID:14638-1504224000-1506815999@colegioangloamericano.edu.co
SUMMARY:Septiembre 2017
DESCRIPTION:
URL:https://colegioangloamericano.edu.co/event/septiembre-2017/
END:VEVENT
BEGIN:VEVENT
DTSTART;VALUE=DATE:20170801
DTEND;VALUE=DATE:20170901
DTSTAMP:20260425T091603
CREATED:20171005T163209Z
LAST-MODIFIED:20171006T213136Z
UID:14633-1501545600-1504223999@colegioangloamericano.edu.co
SUMMARY:Agosto 2017
DESCRIPTION:
URL:https://colegioangloamericano.edu.co/event/agosto2017/
END:VEVENT
BEGIN:VEVENT
DTSTART;VALUE=DATE:20161010
DTEND;VALUE=DATE:20161015
DTSTAMP:20260425T091603
CREATED:20160929T091829Z
LAST-MODIFIED:20160929T091829Z
UID:14098-1476057600-1476489599@colegioangloamericano.edu.co
SUMMARY:Official Recess Week
DESCRIPTION:
URL:https://colegioangloamericano.edu.co/event/official-recess-week/
END:VEVENT
BEGIN:VEVENT
DTSTART;VALUE=DATE:20160907
DTEND;VALUE=DATE:20160908
DTSTAMP:20260425T091603
CREATED:20160929T091547Z
LAST-MODIFIED:20160929T091547Z
UID:14096-1473206400-1473292799@colegioangloamericano.edu.co
SUMMARY:First Period Begins
DESCRIPTION:
URL:https://colegioangloamericano.edu.co/event/first-period-begins/
END:VEVENT
BEGIN:VEVENT
DTSTART;VALUE=DATE:20160906
DTEND;VALUE=DATE:20160907
DTSTAMP:20260425T091603
CREATED:20160929T091041Z
LAST-MODIFIED:20160929T091151Z
UID:14094-1473120000-1473206399@colegioangloamericano.edu.co
SUMMARY:First Day of Clases
DESCRIPTION:
URL:https://colegioangloamericano.edu.co/event/first-day-of-clases/
END:VEVENT
END:VCALENDAR